BEGIN:VCALENDAR
PRODID:-//github.com/rianjs/ical.net//NONSGML ical.net 4.0//EN
VERSION:2.0
BEGIN:VTIMEZONE
TZID:Eastern Standard Time
X-LIC-LOCATION:America/New_York
BEGIN:STANDARD
DTSTART:20241103T020000
RRULE:FREQ=YEARLY;BYDAY=1SU;BYMONTH=11
TZNAME:EST
TZOFFSETFROM:-0400
TZOFFSETTO:-0500
END:STANDARD
BEGIN:DAYLIGHT
DTSTART:20250309T020000
RRULE:FREQ=YEARLY;BYDAY=2SU;BYMONTH=3
TZNAME:EDT
TZOFFSETFROM:-0500
TZOFFSETTO:-0400
END:DAYLIGHT
END:VTIMEZONE
BEGIN:VEVENT
DESCRIPTION:Join us for a quarterly teacher conference to help you build y
 our skills!
DTEND;TZID=Eastern Standard Time:20260801T110000
DTSTAMP:20260420T071129Z
DTSTART;TZID=Eastern Standard Time:20260801T083000
LOCATION:Click Here to Join the Session
ORGANIZER;CN=;SENT-BY="mailto:":
SEQUENCE:0
SUMMARY:GCCA: GCCA 2026 Teacher Conference Series (3 of 4): Building Reade
 rs from Birth
UID:0bdb453c-894d-4670-bbe3-313b97745421
END:VEVENT
END:VCALENDAR
